BEGIN:VCALENDAR
VERSION:2.0
PRODID:-//jEvents 1.5 for Joomla//EN
BEGIN:VEVENT
UID:88c6056e23ad5041f37550972c8b9be4
CATEGORIES:Δημοπρασίες
SUMMARY:ΑΠΛΑΣΗ ΚΟΜΒΟΥ ΜΟΡΦΟΥΒΟΥΝΙΟΥ...
LOCATION:ΔΗΜΟΣ ΠΛΑΣΤΗΡΑ
DESCRIPTION;ENCODING=QUOTED-PRINTABLE:\n\nΑΠΛΑΣΗ ΚΟΜΒΟΥ ΜΟΡΦΟΒΟΥΝΙΟΥ (ΠΛΑΤΕΙΑ ΑΝ
 ΤΙΠΤΕΡΑΡΧΟΥ ΜΠΑΛΤΑΔΩΡΟΥ ΓΕΩΡΓΙΟΥ)\n
CONTACT:24413-52217
X-EXTRAINFO:ΠΡΟΫΠΟΛΟΓΙΣΜΟΣ: 62,450 ΕΥΡΩ
ΠΤΥΧΙΑ: ΟΙΚ-ΗΛΜ
DTSTAMP:20260422T063422
DTSTART:20210525T100000
DTEND:20210525T100000
SEQUENCE:0
TRANSP:OPAQUE
END:VEVENT
END:VCALENDAR