BEGIN:VCALENDAR
VERSION:2.0
PRODID:-//jEvents 1.5 for Joomla//EN
BEGIN:VEVENT
UID:5563349f4d291730332322223ad05dc3
CATEGORIES:Δημοπρασίες
SUMMARY:ΚΑΤΑΣΚ.ΚΤΙΡΙΟΥ Κ1 (ΑΙΘΟΥΣΑ ΠΟΛΛΑΠΛΩΝ ΧΡΗΣΕΩΝ)...
LOCATION:ΔΗΜΟΣ ΚΑΡΔΙΤΣΑΣ
DESCRIPTION;ENCODING=QUOTED-PRINTABLE:ΚΑΤΑΣΚΕΥΗ ΚΤΙΡΙΟΥ Κ1 (ΑΙΘΟΥΣΑ ΠΟΛΛΑΠΛΩΝ Χ
 ΡΗΣΕΩΝ) ΜΕΤΑΛΛΙΚΟΥ ΣΤΕΓΑΣΤΡΟΥ ΚΑΙ ΥΠΟΣΤΑ
 ΘΜΟΥ ΔΕΗ ΣΤΟ ΜΟΥΣΙΚΟ ΓΥΜΝΑΣΙΟ-ΛΥΚΕΙΟ ΚΑΡ
 ΙΤΣΑΣ-ΕΡΓΟΛΑΒΙΑ
CONTACT:2413-50775
X-EXTRAINFO:ΠΡΟΎΠΟΛΟΓΙΣΜΟΣ:2.350.000
ΠΤΥΧΙΑ: ΟΙΚ, ΗΛΜ
DTSTAMP:20260422T082013
DTSTART:20210420T150000
DTEND:20210420T150000
SEQUENCE:0
TRANSP:OPAQUE
END:VEVENT
END:VCALENDAR