BEGIN:VCALENDAR
VERSION:2.0
PRODID:-//jEvents 1.5 for Joomla//EN
BEGIN:VEVENT
UID:f20a648fb89ed809aa72fccee9901149
CATEGORIES:Δημοπρασίες
SUMMARY:ΑΣΘΗΤΙΚ.ΠΑΡΕΜΒΑΣΕΙΣ ΑΝΑΠΛΑΣΕΙΣ...
LOCATION:ΔΗΜΟΣ ΠΛΑΣΤΗΡΑ
DESCRIPTION;ENCODING=QUOTED-PRINTABLE:\n\nΑΙΣΘΗΤΙΚΕΣ ΠΑΡΕΜΒΑΣΕΙΣ ΑΝΑΠΛΑΣΕΙΣ ΟΙΚ
 ΙΣΜΩΝ ΔΗΜΟΥ ΛΙΜΝΗΣ ΠΛΑΣΤΗΡΑ (ΜΟΡΦΟΒΟΥΝΙ -
  ΝΕΟΧΩΡΙ)\n
CONTACT:24413-52209
X-EXTRAINFO:ΠΡΟΫΠΟΛΟΓΙΣΜΟΣ: 161.290,32 ΕΥΡΩ
ΠΤΥΧΙΑ: ΟΙΚ,ΗΛΜ,ΠΡΑΣ
DTSTAMP:20260422T094331
DTSTART:20210323T235900
DTEND:20210323T235900
SEQUENCE:0
TRANSP:OPAQUE
END:VEVENT
END:VCALENDAR