BEGIN:VCALENDAR
VERSION:2.0
PRODID:-//jEvents 1.5 for Joomla//EN
BEGIN:VEVENT
UID:7c748c5b309020a7fbd22e447354dfcd
CATEGORIES:Δημοπρασίες
SUMMARY:ΑΝΑΒΑΘΜ.ΠΕΡΙΒΑΛ.ΧΩΡΟΥ...ΑΛΣΟΣ ΠΑΥΣΙΛΥΠΟΥ
LOCATION:Δ.Τ.Ε.Π.Ε. ΚΑΡΔΙΤΣΑΣ
DESCRIPTION;ENCODING=QUOTED-PRINTABLE:ΑΝΑΒΑΘΜΙΣΗ ΠΕΡΙΒΑΛΛΟΝΤΟΣ ΧΩΡΟΥ ΝΕΟΥΟ ΔΗ
 ΑΡΧΕΙΟΥ ΚΑΙ ΑΙΣΘΗΤΙΚΗ ΣΥΝΔΕΣΗ ΜΕ ΑΛΣΟΣ Π
 ΑΥΣΙΛΥΠΟΥ
CONTACT:24413-54877
X-EXTRAINFO:ΠΡΟΫΠΟΛΟΓΙΣΜΟΣ: 500.000 ΕΥΡΩ
ΠΤΥΧΙΑ: ΟΙΚ-ΗΛΜ-ΠΡΑΣ
DTSTAMP:20260422T162743
DTSTART:20201117T150000
DTEND:20201117T150000
SEQUENCE:0
TRANSP:OPAQUE
END:VEVENT
END:VCALENDAR