BEGIN:VCALENDAR
VERSION:2.0
PRODID:-//jEvents 1.5 for Joomla//EN
BEGIN:VEVENT
UID:c2fe285c09da9f9323c5d5db4a14830a
CATEGORIES:Δημοπρασίες
SUMMARY:ΑΝΑΒΑΘΜ.ΠΑΙΔΙΚ.ΧΑΡΩΝ...ΚΑΡΔΙΤΣΑΣ
LOCATION:ΔΗΜΟΣ ΚΑΡΔΙΤΣΑΣ
DESCRIPTION;ENCODING=QUOTED-PRINTABLE:\n\nΑΝΑΒΑΘΜΙΣΗ ΠΑΙΔΙΚΩΝ ΧΑΡΩΝ ΣΤΙΣ ΔΕ ΤΟΥ 
 ΗΜΟΥ ΚΑΡΔΙΤΣΑΣ\n
CONTACT:24413-54878
X-EXTRAINFO:ΠΡΟΫΠΟΛΟΓΙΣΜΟΣ: 315.000 ΕΥΡΩ
ΠΤΥΧΙΑ: ΟΙΚ - ΗΛΜ
DTSTAMP:20260422T162743
DTSTART:20201118T150000
DTEND:20201118T150000
SEQUENCE:0
TRANSP:OPAQUE
END:VEVENT
END:VCALENDAR