BEGIN:VCALENDAR
VERSION:2.0
PRODID:-//jEvents 1.5 for Joomla//EN
BEGIN:VEVENT
UID:f73d14634297794b3001b63306d7c3bf
CATEGORIES:Δημοπρασίες
SUMMARY:ΕΝΕΡΓ.ΑΝΑΒΑΘΜ....ΑΝΘΗΡΟΥ
LOCATION:ΔΗΜΟΣ ΑΡΓΙΘΕΑΣ
DESCRIPTION;ENCODING=QUOTED-PRINTABLE:\n\nΕΝΕΡΓΕΙΑΚΗ ΑΝΑΒΑΘΜΙΣΗ ΣΤΟ ΔΗΜΟΤΙΚΟ ΚΤ
 ΡΙΟ ΑΝΘΗΡΟΥ\n
CONTACT:24453-50410
X-EXTRAINFO:ΠΡΟΫΠΟΛΟΓΙΣΜΟΣ: 110.000 ΕΥΡΩ
ΠΤΥΧΙΑ: ΟΙΚ, ΗΛΜ

DTSTAMP:20260422T193713
DTSTART:20200923T150000
DTEND:20200923T150000
SEQUENCE:0
TRANSP:OPAQUE
END:VEVENT
END:VCALENDAR