BEGIN:VCALENDAR
VERSION:2.0
PRODID:-//jEvents 1.5 for Joomla//EN
BEGIN:VEVENT
UID:1344c77e7a041e931ba0e3a26d877300
CATEGORIES:Δημοπρασίες
SUMMARY:ΒΕΛΤΙΩΣΗ ΒΑΤΟΤΗΤΑΣ ...ΔΑΣΑΡΧ.ΚΑΡΔΙΤΣΑΣ...
LOCATION:ΔΑΣΑΡΧΕΙΟ ΚΑΡΔΙΤΣΑΣ
DESCRIPTION;ENCODING=QUOTED-PRINTABLE:\n\nΒΕΛΤΙΩΣΗ ΒΑΤΟΤΗΤΑΣ ΔΑΣΙΚΟΥ ΟΔΙΚΟΥ ΔΙΚ
 ΥΟΥ ΤΟΥ ΔΑΣΑΡΧΕΙΟΥ ΚΑΡΔΙΤΣΑΣ ΕΤΟΥΣ 2020\n
CONTACT:24410-79857-79861
X-EXTRAINFO:ΠΡΟΫΠΟΛΟΓΙΣΜΟΣ: 5.966,92 ΕΥΡΩ
ΠΤΥΧΙΑ: Α1 ΠΡΑΣ
DTSTAMP:20260422T214502
DTSTART:20200825T100000
DTEND:20200825T100000
SEQUENCE:0
TRANSP:OPAQUE
END:VEVENT
END:VCALENDAR