BEGIN:VCALENDAR
VERSION:2.0
PRODID:-//jEvents 1.5 for Joomla//EN
BEGIN:VEVENT
UID:1a44dd925154c784267ea0a199c7c7b6
CATEGORIES:Δημοπρασίες
SUMMARY:ΔΙΑΓΡΑΜ.ΟΔΟΣΤΡΩΜ.ΣΕ ΤΜΗΜΑΤΑ...
LOCATION:Δ.Τ.Ε.Π.Ε. ΚΑΡΔΙΤΣΑΣ
DESCRIPTION;ENCODING=QUOTED-PRINTABLE:\n\nΔΙΑΓΡΑΜΜΙΣΗ ΟΔΟΣΤΡΩΜΑΤΟΣ ΣΕ ΤΜΗΜΑΤΑ Τ
 Υ ΕΘΝΙΚΟΥ ΚΑΙ ΕΠΑΡΧΙΑΚΟΥ ΔΙΚΤΥΟΥ ΤΗΣ ΠΕ 
 ΑΡΔΙΤΣΑΣ 2019-2020\n
CONTACT:24413-54903
X-EXTRAINFO:ΠΡΟΫΠΟΛΟΓΙΣΜΟΣ: 240.000 ΕΥΡΩ
ΠΤΥΧΙΑ: Α2 ΟΔΟ

DTSTAMP:20260424T142845
DTSTART:20200901T100000
DTEND:20200901T100000
SEQUENCE:0
TRANSP:OPAQUE
END:VEVENT
END:VCALENDAR