BEGIN:VCALENDAR
VERSION:2.0
PRODID:-//jEvents 1.5 for Joomla//EN
BEGIN:VEVENT
UID:258733a1f03cf653d86a4eb3f7e5048c
CATEGORIES:Δημοπρασίες
SUMMARY:ΒΕΛΤ.ΣΗΜΑΝΣΗΣ &ΤΟΠΟΘΕΤ.ΣΤΗΘΑΙΩΝ....
LOCATION:Δ.Τ.Ε.Π.Ε. ΚΑΡΔΙΤΣΑΣ
DESCRIPTION;ENCODING=QUOTED-PRINTABLE:\n\nΒΕΛΤΙΩΣΗ ΣΗΜΑΝΣΗΣ ΚΑΙ ΤΟΠΟΘΕΤΗΣΗ ΣΤΗΘ
 ΙΩΝ ΑΣΦΑΛΕΙΑΣ ΣΤΟ ΕΠΑΡΧΙΑΚΟ-ΕΘΝΙΚΟ ΔΙΚΤ
 Ο ΤΗΣ ΠΕ ΚΑΡΔΙΤΣΑΣ 2019-2020\n
CONTACT:24413-54903
X-EXTRAINFO:ΠΡΟΫΠΟΛΟΓΙΣΜΟΣ: 240.000 ΕΥΡΩ
ΠΤΥΧΙΑ: Α2 ΟΔΟ

DTSTAMP:20260422T193714
DTSTART:20200901T100000
DTEND:20200901T100000
SEQUENCE:0
TRANSP:OPAQUE
END:VEVENT
END:VCALENDAR