BEGIN:VCALENDAR
VERSION:2.0
PRODID:-//jEvents 1.5 for Joomla//EN
BEGIN:VEVENT
UID:7b8005849b741c277320cd6073ce0c79
CATEGORIES:Δημοπρασίες
SUMMARY:ΑΠΟΧΙΟΝΙΣΜΟΙ ΟΔΙΚΟΥ ΔΙΚΤΥΟΥ ΠΡΟΣ ΚΑΡΟΠΛΕΣΙ...
LOCATION:Δ.Τ.Ε.Π.Ε. ΚΑΡΔΙΤΣΑΣ
DESCRIPTION;ENCODING=QUOTED-PRINTABLE:\n\nΑΠΟΧΙΟΝΙΣΜΟΙ ΟΔΙΚΟΥ ΔΙΚΤΥΟΥ ΠΡΟΣ ΚΑΡΟ
 ΛΕΣΙ, ΓΙΑΝΝΟΥΣΕΙΚΑ, ΣΙΚΑ 2021\n
CONTACT:24413-54928
X-EXTRAINFO:ΠΡΟΫΠΟΛΟΓΙΣΜΟΣ: 24.000 ΕΥΡΩ

DTSTAMP:20260422T231638
DTSTART:20200731T100000
DTEND:20200731T100000
SEQUENCE:0
TRANSP:OPAQUE
END:VEVENT
END:VCALENDAR