BEGIN:VCALENDAR
VERSION:2.0
PRODID:-//jEvents 1.5 for Joomla//EN
BEGIN:VEVENT
UID:575120b4d47703ab2cca84e81422ba3a
CATEGORIES:Δημοπρασίες
SUMMARY:ΑΠΟΧΙΟΝΙΣΜΟΙ ΟΔΙΚΟΥ ΔΙΚΤΥΟΥ ΔΥΤ.ΑΡΓΙΘΕΑΣ...
LOCATION:Δ.Τ.Ε.Π.Ε. ΚΑΡΔΙΤΣΑΣ
DESCRIPTION;ENCODING=QUOTED-PRINTABLE:\n\nΑΠΟΧΙΟΝΙΣΜΟΙ ΟΔΙΚΟΥ ΔΙΚΤΥΟΥ ΔΥΤΙΚΗΣ Α
 ΓΙΘΕΑΣ Π.Ε. ΚΑΡΔΙΤΣΑΣ 2021\n
CONTACT:24413-54928
X-EXTRAINFO:ΠΡΟΫΠΟΛΟΓΙΣΜΟΣ: 74.000 ΕΥΡΩ

DTSTAMP:20260422T231638
DTSTART:20200730T100000
DTEND:20200730T100000
SEQUENCE:0
TRANSP:OPAQUE
END:VEVENT
END:VCALENDAR