BEGIN:VCALENDAR
VERSION:2.0
PRODID:-//jEvents 1.5 for Joomla//EN
BEGIN:VEVENT
UID:0b0d53d329b9ac05c8d8486ca954abc2
CATEGORIES:Δημοπρασίες
SUMMARY:ΑΠΟΧΙΟΝΙΣΜΟΙ ΟΔΙΚΟΥ ΤΜΗΜΑΤ...ΟΡΙΑ ΝΟΜΟΥ
LOCATION:Δ.Τ.Ε.Π.Ε. ΚΑΡΔΙΤΣΑΣ
DESCRIPTION;ENCODING=QUOTED-PRINTABLE:\n\nΑΠΟΧΙΟΝΙΣΜΟΙ ΟΔΙΚΟΥ ΤΜΗΜΑΤΟΣ ΡΑΧΟΥΛΑ-
 ΜΑΡΑΝΤΟΣ-ΣΑΡΑΝΤΑΠΟΡΟ-ΝΕΡΑΙΔΑ-ΟΡΙΑ ΝΟΜΟΥ
 \n
CONTACT:24413-54928
X-EXTRAINFO:ΠΡΟΫΠΟΛΟΓΙΣΜΟΣ: 24.000 ΕΥΡΩ

DTSTAMP:20260422T231536
DTSTART:20200728T100000
DTEND:20200728T100000
SEQUENCE:0
TRANSP:OPAQUE
END:VEVENT
END:VCALENDAR