BEGIN:VCALENDAR
VERSION:2.0
PRODID:-//jEvents 1.5 for Joomla//EN
BEGIN:VEVENT
UID:0bd8caefdbce05699d219712b3480b65
CATEGORIES:Δημοπρασίες
SUMMARY:ΣΥΝΤ.ΑΠΟΚΑΤ.ΣΗΡΑΓΓΩΝ...
LOCATION:Δ.Τ.Ε.Π.Ε. ΚΑΡΔΙΤΣΑΣ
DESCRIPTION;ENCODING=QUOTED-PRINTABLE:\n\nΣΥΝΤΗΡΗΣΗ ΑΠΟΚΑΤΑΣΤΑΣΗ ΣΗΡΑΓΓΩΝ ΠΕ ΚΑ
 ΔΙΤΣΑΣ (Β' ΕΡΓΟΛΑΒΙΑ)\n
CONTACT:24410-54903
X-EXTRAINFO:ΠΡΟΫΠΟΛΟΓΙΣΜΟΣ: 33.260 ΕΥΡΩ
ΠΤΥΧΙΑ: Α1 ΟΔΟ
DTSTAMP:20260422T231504
DTSTART:20200714T100000
DTEND:20200714T100000
SEQUENCE:0
TRANSP:OPAQUE
END:VEVENT
END:VCALENDAR