BEGIN:VCALENDAR
VERSION:2.0
PRODID:-//jEvents 1.5 for Joomla//EN
BEGIN:VEVENT
UID:9bc6ab15e2478271f7802dae31612fbf
CATEGORIES:Δημοπρασίες
SUMMARY:ΒΕΛΤ.ΣΗΜΑΝΣΗΣ &ΤΟΠΟΘΕΤ.ΣΤΗΘΑΙΩΝ....
LOCATION:Δ.Τ.Ε.Π.Ε. ΚΑΡΔΙΤΣΑΣ
DESCRIPTION;ENCODING=QUOTED-PRINTABLE:\n\nΒΕΛΤΙΩΣΗ ΣΗΜΑΝΣΗΣ ΚΑΙ ΤΟΠΟΘΕΤΗΣΗ ΣΤΗΘ
 ΙΩΝ ΑΣΦΑΛΕΙΑΣ ΣΤΟ ΕΠΑΡΧΙΑΚΟ - ΕΘΝΙΚΟ ΔΙΚ
 ΥΟ ΤΗΣ Π.Ε. ΚΑΡΔΙΤΣΑΣ 2019-2020\n
CONTACT:24413-54926
X-EXTRAINFO:ΠΡΟΫΠΟΛΟΓΙΣΜΟΣ: 240.000 ΕΥΡΩ
ΠΤΥΧΙΑ: Α2 ΟΔΟ

DTSTAMP:20260422T231505
DTSTART:20200702T100000
DTEND:20200702T100000
SEQUENCE:0
TRANSP:OPAQUE
END:VEVENT
END:VCALENDAR