BEGIN:VCALENDAR
VERSION:2.0
PRODID:-//jEvents 1.5 for Joomla//EN
BEGIN:VEVENT
UID:c3b6b5e867c1452d096877f2fed6bc56
CATEGORIES:Δημοπρασίες
SUMMARY:ΣΧΕΔ.ΕΝΕΡΓ.ΑΝΑΒΑΘΜ....3ο-13ο ΔΗΜΟΤ.ΣΧΟΛ.ΚΑΡΔΙΔΤΣΑΣ
LOCATION:ΔΗΜΟΣ ΚΑΡΔΙΤΣΑΣ
DESCRIPTION;ENCODING=QUOTED-PRINTABLE:\n\nΣΧΕΔΙΟ ΕΝΕΡΓΕΙΑΚΗΣ ΑΝΑΒΑΘΜΙΣΗΣ ΚΑΙ ΕΞ
 ΙΚΟΝΟΜΗΣΗΣ ΕΝΕΡΓΕΙΑΣ ΣΤΟ ΥΦΙΣΤΑΜΕΝΟ ΣΧΟ
 ΛΙΚΟ ΚΤΙΡΙΟ ΤΟΥ 3ου-13ου ΔΗΜΟΤΙΚΟΥ ΣΧΟΛΕΙΟ
 Υ ΚΑΡΔΙΤΣΑΣ\n
CONTACT:24413-50807
X-EXTRAINFO:ΠΡΟΫΠΟΛΟΓΙΣΜΟΣ: 353.837,81 ΕΥΡΩ
ΠΤΥΧΙΑ: ΟΙΚ,ΗΛΜ

DTSTAMP:20260423T005920
DTSTART:20200623T150000
DTEND:20200623T150000
SEQUENCE:0
TRANSP:OPAQUE
END:VEVENT
END:VCALENDAR