BEGIN:VCALENDAR
VERSION:2.0
PRODID:-//jEvents 1.5 for Joomla//EN
BEGIN:VEVENT
UID:029ce0389058214aeefa464c4659036f
CATEGORIES:Δημοπρασίες
SUMMARY:ΣΥΝΤΗΡ.-ΒΕΛΤ.ΔΑΣΙΚΩΝ ΕΡΓΩΝ...
LOCATION:ΔΑΣΑΡΧΕΙΟ ΜΟΥΖΑΚΙΟΥ
DESCRIPTION;ENCODING=QUOTED-PRINTABLE:\n\nΣΥΝΤΗΡΗΣΗ-ΒΕΛΤΙΩΣΗ ΔΑΣΙΚΩΝ ΕΡΓΩΝ ΟΔΟΠ
 ΙΙΑΣ ΣΤΑ ΔΗΜΟΣΙΑ ΔΑΣΗ ΤΟΥ ΔΑΣΑΡΧΕΙΟΥ ΜΟΥ
 ΖΑΚΙΟΥ\n
CONTACT:24450-49157
X-EXTRAINFO:ΠΡΟΥΠΟΛΟΓΙΣΜΟΣ: 11.566,74 ΕΥΡΩ
ΠΤΥΧΙΟ: ΠΡΑΣ
DTSTAMP:20260423T010001
DTSTART:20200616T100000
DTEND:20200616T100000
SEQUENCE:0
TRANSP:OPAQUE
END:VEVENT
END:VCALENDAR