BEGIN:VCALENDAR
VERSION:2.0
PRODID:-//jEvents 1.5 for Joomla//EN
BEGIN:VEVENT
UID:22058b21b4f1c5a84d99e112361fa588
CATEGORIES:Δημοπρασίες
SUMMARY:ΚΑΤΕΠΕΙΓΟΥΣΕΣ ΕΡΓΑΣΙΕΣ ΣΤΟ ΟΔΙΚΟ ΔΙΚΤΥΟ ΠΕ ΚΑΡΔΙΤΣΑΣ...
LOCATION:Δ.Τ.Ε.Π.Ε. ΚΑΡΔΙΤΣΑΣ
DESCRIPTION;ENCODING=QUOTED-PRINTABLE:\n\nΚΑΤΕΠΕΙΓΟΥΣΕΣ ΕΡΓΑΣΙΕΣ ΣΤΟ ΟΔΙΚΟ ΔΙΚΤ
 Ο Π.Ε. ΚΑΡΔΙΤΣΑΣ ΓΙΑ ΤΗΝ ΑΝΤΙΜΕΤΩΠΙΣΗ ΖΗΜ
 ΙΩΝ ΑΠΟ ΕΝΤΟΝΕΣ ΒΡΟΧΩΠΤΩΣΕΙΣ ΟΚΤΩΒΡΙΟΥ 20
 19\n
CONTACT:24410-54903
X-EXTRAINFO:ΠΡΟΫΠΟΛΟΓΙΣΜΟΣ: 246.000 ΕΥΡΩ
ΠΤΥΧΙΑ: Α2 ΟΔΟ

DTSTAMP:20260423T062334
DTSTART:20200528T100000
DTEND:20200528T100000
SEQUENCE:0
TRANSP:OPAQUE
END:VEVENT
END:VCALENDAR