BEGIN:VCALENDAR
VERSION:2.0
PRODID:-//jEvents 1.5 for Joomla//EN
BEGIN:VEVENT
UID:db4884bfe45419470771998d5b29810e
CATEGORIES:Δημοπρασίες
SUMMARY:ΕΡΓΑΣΙΕΣ ΣΥΝΤΗΡ. ΠΡΑΣΙΝΟΥ Κ.Χ. ΔΗΜ. ΣΟΦΑΔΩΝ
LOCATION:ΔΗΜΟΣ ΣΟΦΑΔΩΝ
DESCRIPTION;ENCODING=QUOTED-PRINTABLE:\n\nΕΡΓΑΣΙΕΣ ΣΥΝΤΗΡΗΣΗΣ ΠΡΑΣΙΝΟΥ Κ.Χ. ΔΗΜΟ
  ΣΟΦΑΔΩΝ\n
CONTACT:2443-353200
X-EXTRAINFO:ΠΡΟΫΠΟΛΟΓΙΣΜΟΣ: 74.399,36 ΥΡΩ

DTSTAMP:20260423T081125
DTSTART:20200430T150000
DTEND:20200430T150000
SEQUENCE:0
TRANSP:OPAQUE
END:VEVENT
END:VCALENDAR