BEGIN:VCALENDAR
VERSION:2.0
PRODID:-//jEvents 1.5 for Joomla//EN
BEGIN:VEVENT
UID:902ffbd6c5edf1d1355defae211249ee
CATEGORIES:Δημοπρασίες
SUMMARY:ΑΓΡΟΤ.ΟΔΟΠΟΙΙΑ ΠΕ ΚΑΡΔΙΤΣΑΣ
LOCATION:Δ.Τ.Ε.Π.Ε. ΚΑΡΔΙΤΣΑΣ
DESCRIPTION;ENCODING=QUOTED-PRINTABLE:\n\nΑΓΡΟΤΙΚΗ ΟΔΟΠΟΙΙΑ ΠΕ ΚΑΡΔΙΤΣΑΣ 2017-2018\n
CONTACT:24413-54903
X-EXTRAINFO:ΠΡΟΫΠΟΛΟΓΙΣΜΟΣ: 500.000 ΕΥΡΩ
ΠΤΥΧΙΑ: Α2 ΟΔΟ

DTSTAMP:20260423T100357
DTSTART:20200312T100000
DTEND:20200312T100000
SEQUENCE:0
TRANSP:OPAQUE
END:VEVENT
END:VCALENDAR