BEGIN:VCALENDAR
VERSION:2.0
PRODID:-//jEvents 1.5 for Joomla//EN
BEGIN:VEVENT
UID:e0e1c1f2181cdf0a9b4d41a7be469ae5
CATEGORIES:Δημοπρασίες
SUMMARY:ΚΑΘΑΡ.ΒΛΑΣΤΗΣΗΣ...
LOCATION:Δ.Τ.Ε.Π.Ε. ΚΑΡΔΙΤΣΑΣ
DESCRIPTION;ENCODING=QUOTED-PRINTABLE:\n\nΚΑΘΑΡΙΣΜΟΣ ΒΛΑΣΤΗΣΗΣ ΣΤΟ ΟΔΙΚΟ ΔΙΚΤΥΟ 
 ΤΗΣ ΠΕ ΚΑΡΔΙΤΣΑΣ 2019-2020\n
CONTACT:24410-54903
X-EXTRAINFO:ΠΡΟΫΠΟΛΟΓΙΣΜΟΣ: 240.000 ΕΥΡΩ
ΠΤΥΧΙΑ: Α2 ΠΡΑΣ

DTSTAMP:20260423T115631
DTSTART:20200211T100000
DTEND:20200211T100000
SEQUENCE:0
TRANSP:OPAQUE
END:VEVENT
END:VCALENDAR