BEGIN:VCALENDAR
VERSION:2.0
PRODID:-//jEvents 1.5 for Joomla//EN
BEGIN:VEVENT
UID:3fb05e40b711baec5ad89fc9b46032b0
CATEGORIES:Δημοπρασίες
SUMMARY:ΑΝΤΙΚΑΤΑΣΤ.ΥΔΡΕΥΣΕΩΝ ΔΕ ΠΑΜΙΣΟΥ
LOCATION:ΔΗΜΟΣ ΜΟΥΖΑΚΙΟΥ
DESCRIPTION;ENCODING=QUOTED-PRINTABLE:ΑΝΤΙΚΑΤΑΣΤΑΣΕΙΣ ΥΔΡΕΥΣΕΩΝ ΔΕ ΠΑΜΙΣΟΥ
CONTACT:24453-50123
X-EXTRAINFO:ΠΡΟΫΠΟΛΟΓΙΣΜΟΣ: 3.710.000 ΕΥΡΩ
ΠΤΥΧΙΑ: ΥΔΡ Ή ΗΛΜ
DTSTAMP:20260423T134644
DTSTART:20200114T100000
DTEND:20200114T100000
SEQUENCE:0
TRANSP:OPAQUE
END:VEVENT
END:VCALENDAR