BEGIN:VCALENDAR
VERSION:2.0
PRODID:-//jEvents 1.5 for Joomla//EN
BEGIN:VEVENT
UID:dfd38ac5d0e4b4b885975956c49e6d2a
CATEGORIES:Δημοπρασίες
SUMMARY:ΑΓΡΟΤ.ΟΔΟΠΟΙΙΑ ΔΕ ΣΟΦΑΔΩΝ
LOCATION:ΔΗΜΟΣ ΣΟΦΑΔΩΝ
DESCRIPTION;ENCODING=QUOTED-PRINTABLE:\n\nΑΓΡΟΤΙΚΗ ΟΔΟΠΟΙΙΑ ΔΕ ΣΟΦΑΔΩΝ\n
CONTACT:2443-353229
X-EXTRAINFO:ΠΡΟΫΠΟΛΟΓΙΣΜΟΣ: 330.000 ΕΥΡΩ
ΠΤΥΧΙΑ: ΟΔΟ

DTSTAMP:20260423T135742
DTSTART:20200120T130000
DTEND:20200120T130000
SEQUENCE:0
TRANSP:OPAQUE
END:VEVENT
END:VCALENDAR