BEGIN:VCALENDAR
VERSION:2.0
PRODID:-//jEvents 1.5 for Joomla//EN
BEGIN:VEVENT
UID:1eb4d7aab6132de9000ccd0b5d5a9c57
CATEGORIES:Δημοπρασίες
SUMMARY:ΑΣΦΑΛΤ.ΟΔΩΝ...ΣΟΦΑΔΩΝ...
LOCATION:ΔΗΜΟΣ ΣΟΦΑΔΩΝ
DESCRIPTION;ENCODING=QUOTED-PRINTABLE:\n\nΑΣΦΑΛΤΟΣΤΡΩΣΕΙΣ ΟΔΩΝ ΣΕ ΟΙΚΙΣΜΟΥΣ ΤΗΣ 
 Δ.Ε. ΣΟΦΑΔΩΝ & Δ.Ε. ΑΡΝΗΣ\n
CONTACT:2443-353229
X-EXTRAINFO:ΠΡΟΫΠΟΛΟΓΙΣΜΟΣ: 300.000 ΕΥΡΩ
ΠΤΥΧΙΑ: ΟΔΟ

DTSTAMP:20260423T153721
DTSTART:20191209T130000
DTEND:20191209T130000
SEQUENCE:0
TRANSP:OPAQUE
END:VEVENT
END:VCALENDAR