BEGIN:VCALENDAR
VERSION:2.0
PRODID:-//jEvents 1.5 for Joomla//EN
BEGIN:VEVENT
UID:af5e7b65c10053b5fce68f47a40780fe
CATEGORIES:Δημοπρασίες
SUMMARY:ΕΠΕΚΤ.ΔΙΚΤΥΩΝ ΑΠΟΧΕΤ.ΑΚΑΘΑΡΤ.& ΟΜΒΡΙΩΝ...
LOCATION:Δ.Ε.Υ.Α.Κ
DESCRIPTION;ENCODING=QUOTED-PRINTABLE:\n\nΕΠΕΚΤΑΣΗ ΔΙΚΤΥΩΝ ΑΠΟΧΕΤΕΥΣΗΣ ΑΚΑΘΑΡΤΩ
 Ν ΚΑΙ ΟΜΒΡΙΩΝ ΣΕ ΠΕΡΙΟΧΕΣ ΕΝΤΟΣ ΣΧΕΔΙΟΥ Σ
 ΤΗΝ ΠΟΛΗ ΤΗΣ ΚΑΡΔΙΤΣΑΣ\n
CONTACT:24410-71711
X-EXTRAINFO:ΠΡΟΫΠΟΛΟΓΙΣΜΟΣ: 3.040.000 (χωρις ΦΠΑ)
ΠΤΥΧΙΑ: 3ΗΣ ΥΔΡ

DTSTAMP:20260425T012628
DTSTART:20191115T150000
DTEND:20191115T150000
SEQUENCE:0
TRANSP:OPAQUE
END:VEVENT
END:VCALENDAR