BEGIN:VCALENDAR
VERSION:2.0
PRODID:-//jEvents 1.5 for Joomla//EN
BEGIN:VEVENT
UID:b85ad2a7b497cfe6d8936208f3230370
CATEGORIES:Δημοπρασίες
SUMMARY:ΕΝΕΡΓ.ΑΝΑΒΑΘΜ.ΔΗΜΟΤ.ΣΧΟΛ.ΑΓΝΑΝΤΕΡΟΥ
LOCATION:ΔΗΜΟΣ ΜΟΥΖΑΚΙΟΥ
DESCRIPTION;ENCODING=QUOTED-PRINTABLE:\n\nΕΝΕΡΓΕΙΑΚΗ ΑΝΑΒΑΘΜΙΣΗ ΔΗΜΟΤΙΚΟΥ ΣΧΟΛΕ
 ΙΟΥ ΑΓΝΑΝΤΕΡΟΥ\n
CONTACT:24453-50124
X-EXTRAINFO:ΠΡΟΎΠΟΛΟΓΙΣΜΟΣ: 220.000 ΕΥΡΩ
ΠΤΥΧΙΑ: ΟΙΚ, ΗΛΜ
DTSTAMP:20260425T012506
DTSTART:20191119T020000
DTEND:20191119T020000
SEQUENCE:0
TRANSP:OPAQUE
END:VEVENT
END:VCALENDAR