BEGIN:VCALENDAR
VERSION:2.0
PRODID:-//jEvents 1.5 for Joomla//EN
BEGIN:VEVENT
UID:8db2e4c740f233a08652f0773c32de10
CATEGORIES:Δημοπρασίες
SUMMARY:ΑΓΡΟΤ.ΟΔΟΠΟΙΙΑ ΔΗΜΟΥ ΠΑΛΑΜΑ
LOCATION:ΔΗΜΟΣ ΠΑΛΑΜΑ
DESCRIPTION;ENCODING=QUOTED-PRINTABLE:\n\nΑΓΡΟΤΙΚΗ ΟΔΟΠΟΙΙΑ ΔΗΜΟΥ ΠΑΛΑΜΑ\n
CONTACT:24443-50141-151-131
X-EXTRAINFO:ΠΡΟΎΠΟΛΟΓΙΣΜΟΣ: 1.082.800 ΕΥΡΩ
ΠΤΥΧΙΑ: ΟΔΟ

DTSTAMP:20260425T025036
DTSTART:20191025T150000
DTEND:20191025T150000
SEQUENCE:0
TRANSP:OPAQUE
END:VEVENT
END:VCALENDAR