BEGIN:VCALENDAR
VERSION:2.0
PRODID:-//jEvents 1.5 for Joomla//EN
BEGIN:VEVENT
UID:a42abe833cd9057d83910e482599322d
CATEGORIES:Δημοπρασίες
SUMMARY:ΚΑΤΑΣΚ.ΣΥΝΘΕΤ.ΧΛΟΟΤΑΠΗΤΑ...
LOCATION:ΔΗΜΟΣ ΚΑΡΔΙΤΣΑΣ
DESCRIPTION;ENCODING=QUOTED-PRINTABLE:\n\nΚΑΤΑΣΚΕΥΗ ΣΥΝΘΕΤΙΚΟΥ ΧΛΟΟΤΑΠΗΤΑ ΣΤΟ Α
 ΛΗΤΙΚΟ ΚΕΝΤΡΟ ΑΓ. ΝΙΚΟΛΑΟΥ ΔΗΜΟΥ ΚΑΡΔΙΤΣ
 ΑΣ Π.Ε. ΚΑΡΔΙΤΣΑΣ\n
CONTACT:24413-54877
X-EXTRAINFO:ΠΡΟΫΠΟΛΟΓΙΣΜΟΣ: 188500 ΕΥΡΩ
ΠΤΥΧΙΑ: ΟΙΚ Α2

DTSTAMP:20260425T041101
DTSTART:20190926T150000
DTEND:20190926T150000
SEQUENCE:0
TRANSP:OPAQUE
END:VEVENT
END:VCALENDAR