BEGIN:VCALENDAR
VERSION:2.0
PRODID:-//jEvents 1.5 for Joomla//EN
BEGIN:VEVENT
UID:b2ad48f7dbe2745a258d52db5a6c52f3
CATEGORIES:Δημοπρασίες
SUMMARY:ΚΑΤΑΣΚ.ΡΑΜΠΩΝ ΠΡΟΣΒΑΣΗΣ ΑΜΕΑ...
LOCATION:ΔΗΜΟΣ ΠΑΛΑΜΑ
DESCRIPTION;ENCODING=QUOTED-PRINTABLE:\n\nΚΑΤΑΣΚΕΥΗ ΡΑΜΠΩΝ ΠΡΟΣΒΑΣΗΣ ΑΜΕΑ ΣΤΑ ΣΧ
 ΟΛΕΙΑ, ΔΗΜΟΥ ΠΑΛΑΜΑ\n
CONTACT:24443-50141-151-131
X-EXTRAINFO:ΠΡΟΫΠΟΛΟΓΙΣΜΟΣ: 85.500 ΕΥΡΩ
ΠΤΥΧΙΑ: Α1 ΟΙΚ
DTSTAMP:20260425T041100
DTSTART:20190923T150000
DTEND:20190923T150000
SEQUENCE:0
TRANSP:OPAQUE
END:VEVENT
END:VCALENDAR